BEGIN:VCALENDAR
VERSION:2.0
PRODID:-//RAID - ECPv6.15.20//NONSGML v1.0//EN
CALSCALE:GREGORIAN
METHOD:PUBLISH
X-ORIGINAL-URL:https://www.raid.world
X-WR-CALDESC:Events for RAID
REFRESH-INTERVAL;VALUE=DURATION:PT1H
X-Robots-Tag:noindex
X-PUBLISHED-TTL:PT1H
BEGIN:VTIMEZONE
TZID:America/Toronto
BEGIN:DAYLIGHT
TZOFFSETFROM:-0500
TZOFFSETTO:-0400
TZNAME:EDT
DTSTART:20240310T070000
END:DAYLIGHT
BEGIN:STANDARD
TZOFFSETFROM:-0400
TZOFFSETTO:-0500
TZNAME:EST
DTSTART:20241103T060000
END:STANDARD
BEGIN:DAYLIGHT
TZOFFSETFROM:-0500
TZOFFSETTO:-0400
TZNAME:EDT
DTSTART:20250309T070000
END:DAYLIGHT
BEGIN:STANDARD
TZOFFSETFROM:-0400
TZOFFSETTO:-0500
TZNAME:EST
DTSTART:20251102T060000
END:STANDARD
BEGIN:DAYLIGHT
TZOFFSETFROM:-0500
TZOFFSETTO:-0400
TZNAME:EDT
DTSTART:20260308T070000
END:DAYLIGHT
BEGIN:STANDARD
TZOFFSETFROM:-0400
TZOFFSETTO:-0500
TZNAME:EST
DTSTART:20261101T060000
END:STANDARD
END:VTIMEZONE
BEGIN:VEVENT
DTSTART;TZID=America/Toronto:20251008T000000
DTEND;TZID=America/Toronto:20251130T235959
DTSTAMP:20260419T132211
CREATED:20250717T173750Z
LAST-MODIFIED:20250904T230545Z
UID:10000005-1759881600-1764547199@www.raid.world
SUMMARY:🖼️ Please Destroy And Rebuild With Care
DESCRIPTION:About the Artist\n\n\n\nBrennan Bova is a multi-disciplinary animation professional with over 15 years of industry experience. He has contributed to numerous shows and films as an animator\, rigger\, and designer\, in addition to creating original animated shorts. His lifelong passion for art and cartoons traces back to his childhood — eyes glued to the screen\, watching VHS tapes of his favourite animations. This exhibition marks his first solo show. \n\n\n\nInstagram\n\nLink\n\n\n\n\n\n\n\n\n\n\n\n\n\nAbout the Exhibition\n\n\n\nPLEASE DESTROY AND REBUILD WITH CARE emerges from a period of personal hardship and deep transformation. Through intense reflection and effort\, Bova has produced some of his most experimental and emotionally resonant work to date. The collection stands as a testament to resilience\, emphasizing the importance of self-compassion and the power of rebuilding — with care\, strength\, and intention.
URL:https://www.raid.world/event/please-destroy-and-rebuild-with-care/
LOCATION:RAID Gallery & Cafe\, 1720 Queen Street West\, Toronto\, Ontario\, M68 1B3\, Canada
CATEGORIES:Exhibits
ATTACH;FMTTYPE=image/jpeg:https://www.raid.world/wp-content/uploads/2025/07/bova_banner-01.jpg
END:VEVENT
BEGIN:VEVENT
DTSTART;TZID=America/Toronto:20251129T200000
DTEND;TZID=America/Toronto:20251129T235900
DTSTAMP:20260419T132211
CREATED:20251107T235615Z
LAST-MODIFIED:20251108T001106Z
UID:10000023-1764446400-1764460740@www.raid.world
SUMMARY:🪩 BLITZmas • Let's get Festive!
DESCRIPTION:Join us for RAID’s festive celebration as we toast the launch of BLITZ\, our brand-new creator-driven magazine — along with two terror-ific new releases: Blackmouth: The Witch’s Mark and Cauldron: Forbidden Appetites! \nSip on bespoke cocktails crafted by Barebones Bartending\, and indulge in new sweet and savoury creations debuting at the RAID Gallery & Café. \nCome unwind with friends\, peers\, and fellow creators who know just how wonderfully chaotic — and deeply rewarding — making comics can be. Expect good vibes\, great company\, and a soundtrack curated with care to keep the night rolling. \n🗓️  Saturday\, November 29\, 8:00 PM to midnight \n📍 RAID Gallery & Café — 1720 Queen Street West \n🥃 Bespoke Cocktails by Barebones Bartending \n💲 Event Price is $20; includes entry\, a copy of BLITZ\, and two drink tickets. \n 
URL:https://www.raid.world/event/blitzmas/
LOCATION:RAID Gallery & Cafe\, 1720 Queen Street West\, Toronto\, Ontario\, M68 1B3\, Canada
CATEGORIES:Launch Party
ATTACH;FMTTYPE=image/png:https://www.raid.world/wp-content/uploads/2025/11/Eventbrite-e1762551061592.png
END:VEVENT
END:VCALENDAR