BEGIN:VCALENDAR
VERSION:2.0
PRODID:-//RAID - ECPv6.15.20//NONSGML v1.0//EN
CALSCALE:GREGORIAN
METHOD:PUBLISH
X-WR-CALNAME:RAID
X-ORIGINAL-URL:https://www.raid.world
X-WR-CALDESC:Events for RAID
REFRESH-INTERVAL;VALUE=DURATION:PT1H
X-Robots-Tag:noindex
X-PUBLISHED-TTL:PT1H
BEGIN:VTIMEZONE
TZID:America/Toronto
BEGIN:DAYLIGHT
TZOFFSETFROM:-0500
TZOFFSETTO:-0400
TZNAME:EDT
DTSTART:20240310T070000
END:DAYLIGHT
BEGIN:STANDARD
TZOFFSETFROM:-0400
TZOFFSETTO:-0500
TZNAME:EST
DTSTART:20241103T060000
END:STANDARD
BEGIN:DAYLIGHT
TZOFFSETFROM:-0500
TZOFFSETTO:-0400
TZNAME:EDT
DTSTART:20250309T070000
END:DAYLIGHT
BEGIN:STANDARD
TZOFFSETFROM:-0400
TZOFFSETTO:-0500
TZNAME:EST
DTSTART:20251102T060000
END:STANDARD
BEGIN:DAYLIGHT
TZOFFSETFROM:-0500
TZOFFSETTO:-0400
TZNAME:EDT
DTSTART:20260308T070000
END:DAYLIGHT
BEGIN:STANDARD
TZOFFSETFROM:-0400
TZOFFSETTO:-0500
TZNAME:EST
DTSTART:20261101T060000
END:STANDARD
END:VTIMEZONE
BEGIN:VEVENT
DTSTART;TZID=America/Toronto:20251115T000000
DTEND;TZID=America/Toronto:20251116T235959
DTSTAMP:20260419T171531
CREATED:20250822T153302Z
LAST-MODIFIED:20251107T225637Z
UID:10000007-1763164800-1763337599@www.raid.world
SUMMARY:🎪 Thought Bubble 2025
DESCRIPTION:We’re hopping across the pond for a fun-filled weekend at the Thought Bubble Comic Arts Festival — a celebration of comics and the creators behind them! The festival runs November 15–16 at the Harrogate Convention Centre (📍King’s Rd\, Harrogate HG1 5LA\, United Kingdom)\, and you’ll find us at Redshirt Hall\, Booth 1. \nJoining us will be members of the RAID Press team\, including Managing Editor Darcy Shea and Founder & Creator Ramón Pérez\, alongside special guests Calum Gillespie\, debuting a preview ashcan of his upcoming comic FRUIT!\, and Danesh Mohiuddin\, the creative mind behind Timeless Characters. \nSwing by our booth to pick up our latest releases — including Blackmouth: The Witch’s Mark\, Cauldron: Forbidden Appetites\, and our official magazine of independent creators; BLITZ — or discover fan favourites like the RAID Anthologies\, To Steal the Sun\, and Forest Folk!
URL:https://www.raid.world/event/thought-bubble-2025/
LOCATION:Harrogate Convention Centre\, King's Rd\, Harrogate\, HG1 5LA\, United Kingdom
CATEGORIES:Conventions & Expos
ATTACH;FMTTYPE=image/jpeg:https://www.raid.world/wp-content/uploads/2025/07/thoughtbubble_banner-01.jpg
END:VEVENT
END:VCALENDAR