BEGIN:VCALENDAR
VERSION:2.0
PRODID:-//RAID - ECPv6.15.20//NONSGML v1.0//EN
CALSCALE:GREGORIAN
METHOD:PUBLISH
X-ORIGINAL-URL:https://www.raid.world
X-WR-CALDESC:Events for RAID
REFRESH-INTERVAL;VALUE=DURATION:PT1H
X-Robots-Tag:noindex
X-PUBLISHED-TTL:PT1H
BEGIN:VTIMEZONE
TZID:America/Toronto
BEGIN:DAYLIGHT
TZOFFSETFROM:-0500
TZOFFSETTO:-0400
TZNAME:EDT
DTSTART:20240310T070000
END:DAYLIGHT
BEGIN:STANDARD
TZOFFSETFROM:-0400
TZOFFSETTO:-0500
TZNAME:EST
DTSTART:20241103T060000
END:STANDARD
BEGIN:DAYLIGHT
TZOFFSETFROM:-0500
TZOFFSETTO:-0400
TZNAME:EDT
DTSTART:20250309T070000
END:DAYLIGHT
BEGIN:STANDARD
TZOFFSETFROM:-0400
TZOFFSETTO:-0500
TZNAME:EST
DTSTART:20251102T060000
END:STANDARD
BEGIN:DAYLIGHT
TZOFFSETFROM:-0500
TZOFFSETTO:-0400
TZNAME:EDT
DTSTART:20260308T070000
END:DAYLIGHT
BEGIN:STANDARD
TZOFFSETFROM:-0400
TZOFFSETTO:-0500
TZNAME:EST
DTSTART:20261101T060000
END:STANDARD
END:VTIMEZONE
BEGIN:VEVENT
DTSTART;TZID=America/Toronto:20250821T000000
DTEND;TZID=America/Toronto:20250824T235959
DTSTAMP:20260419T220138
CREATED:20250711T195600Z
LAST-MODIFIED:20251107T225549Z
UID:10000002-1755734400-1756079999@www.raid.world
SUMMARY:🎪 Fan Expo Canada
DESCRIPTION:Featuring: the RAID PRESS store and artists: Ramon Perez\, Marcus To\, Nick Kilsian\, Kyle SmithFeatured Releases: Blackmouth: The Witch’s Mark
URL:https://www.raid.world/event/fan-expo-canada-1/
LOCATION:Metro Toronto Convention Centre\, 255 Front St W\, Toronto\, Ontario\, M5V 2W6\, Canada
CATEGORIES:Conventions & Expos
ATTACH;FMTTYPE=image/jpeg:https://www.raid.world/wp-content/uploads/2025/07/fanexpo_banner-01.jpg
END:VEVENT
END:VCALENDAR