BEGIN:VCALENDAR
VERSION:2.0
PRODID:-//RAID - ECPv6.15.20//NONSGML v1.0//EN
CALSCALE:GREGORIAN
METHOD:PUBLISH
X-ORIGINAL-URL:https://www.raid.world
X-WR-CALDESC:Events for RAID
REFRESH-INTERVAL;VALUE=DURATION:PT1H
X-Robots-Tag:noindex
X-PUBLISHED-TTL:PT1H
BEGIN:VTIMEZONE
TZID:America/Toronto
BEGIN:DAYLIGHT
TZOFFSETFROM:-0500
TZOFFSETTO:-0400
TZNAME:EDT
DTSTART:20250309T070000
END:DAYLIGHT
BEGIN:STANDARD
TZOFFSETFROM:-0400
TZOFFSETTO:-0500
TZNAME:EST
DTSTART:20251102T060000
END:STANDARD
BEGIN:DAYLIGHT
TZOFFSETFROM:-0500
TZOFFSETTO:-0400
TZNAME:EDT
DTSTART:20260308T070000
END:DAYLIGHT
BEGIN:STANDARD
TZOFFSETFROM:-0400
TZOFFSETTO:-0500
TZNAME:EST
DTSTART:20261101T060000
END:STANDARD
BEGIN:DAYLIGHT
TZOFFSETFROM:-0500
TZOFFSETTO:-0400
TZNAME:EDT
DTSTART:20270314T070000
END:DAYLIGHT
BEGIN:STANDARD
TZOFFSETFROM:-0400
TZOFFSETTO:-0500
TZNAME:EST
DTSTART:20271107T060000
END:STANDARD
END:VTIMEZONE
BEGIN:VEVENT
DTSTART;TZID=America/Toronto:20260214T000000
DTEND;TZID=America/Toronto:20260216T235959
DTSTAMP:20260420T010705
CREATED:20260208T222732Z
LAST-MODIFIED:20260208T230417Z
UID:10000027-1771027200-1771286399@www.raid.world
SUMMARY:🎪 FAN EXPO VANCOUVER 2026
DESCRIPTION:RAID is heading out west for FAN EXPO VANCOUVER\, which runs from Saturday\, February 14th – Monday the 16th at the Vancouver Convention Centre. Our crew will be located at P33-34\, and P14 in Artist Alley. \nCreators present are: Dax Gordine\, Ramón K Pérez\, and Becka Kinzie. \nSCHEDULED PANELS & EVENTS: \nSAT\, FEB 14\, 11:45 am | THEATRE 5 • BLITZ MAGAZINE AND THE NEW INDIE FRONTIER \nIndependent comics are booming like they haven’t since the halcyon days of the 1980s underground—welcome back to the Wild West. BLITZ sits at the heart of this resurgence\, spotlighting fearless creators\, international voices\, and boundary-pushing work. Join BLITZ founder and award-winning artist Ramón Pérez\, alongside creators Emilia Strilchuk\, Dax Gordine\, and Shawn Daley\, as they carve their own paths and dig into the modern indie publishing landscape — what’s fuelling this creative explosion\, and how a new generation is keeping the DIY spirit loud\, vital\, and thriving. \n\n\nEmilia Strilchuk \n\n\nDax Gordine \n\n\nRamón Pérez \n\n\nShawn Daley \n\n\nHosted by Stephanie Gerk \nMON\, FEB 16\, 12:45 pm | THEATRE 5 • SKETCH DUEL: MAX DUNBAR VS RAMÓN PÉREZ \nFriendly\, high-energy art battles where professional comic artists draw head-to-head\, often with audience themes\, showcasing speed and creativity\, creating unique art for fans. Lucky audience members have a chance to win the art created on stage so make sure to arrive early! \n\n\nMax Dunbar \n\n\nRamón Pérez \n\n\nHosted by Anthony Ruttgaizer
URL:https://www.raid.world/event/%f0%9f%8e%aa-fan-expo-vancouver-2026/
LOCATION:Vancouver Convention Centre\, 1055 Canada Place\, Vancouver\, British Columbia\, V6C0C3\, Canada
CATEGORIES:Conventions & Expos
ATTACH;FMTTYPE=image/avif:https://www.raid.world/wp-content/uploads/2026/02/MEETUPS-d5c39af309b7aec4fb2db87c7f734ef1.jpg.avif
END:VEVENT
BEGIN:VEVENT
DTSTART;TZID=America/Toronto:20260408T000000
DTEND;TZID=America/Toronto:20260412T235959
DTSTAMP:20260420T010705
CREATED:20260325T211001Z
LAST-MODIFIED:20260325T211004Z
UID:10000029-1775606400-1776038399@www.raid.world
SUMMARY:🎪 TAAFI 2026
DESCRIPTION:The Toronto Animation Arts Festival International\, or TAAFI\, is the animation festival that welcomes a massive audience of talented professionals\, students\, studios and enthusiasts\, year after year. It is a completely volunteer-run non-profit organization that is crazy passionate about cartoons and the people who make them! \nThis year\, TAAFI has reorganized their many events into a singular multi-day festival: “TAAFI 2026: The Industry We Want To Work In” and emphasizes collaboration and community\, addressing shared challenges and exploring ways to shape a more inclusive\, sustainable\, and creative future. \nTaking place from Wednesday\, April 8th to Sunday\, April 12th\, the festival will be filled with guest speakers from across the industry including Aaron Blaise (former Disney Animation Supervisor)\, Phil Rynda (Head of Original Animation\, Pokemon)\, and John Aoshima (Director\, Ultraman: Rising) and unique panels highlighting a number of topics related to animation/VFX and more at our Industry Conference\, as well as our annual Film Festival and other special feature presentations\, where films submitted from across the world and right here in Canada are celebrated on the big screen.  \nTAAFI 2026 is the perfect opportunity for professionals\, students\, hobbyists\, or just about anyone wanting to catch up on the latest trends and industry talks\, network with fellow creatives in the field\, or kick back and have a great time at one of our various screenings! \nTickets are available now at https://aftontickets.com/taafi. We hope to see you there! Be sure to follow @thetaafi on Instagram\, Facebook\, LinkedIn\, X (formerly Twitter)\, and subscribe to their newsletter for all the latest updates. \nTAAFI 2026. One Epic Event. Film. Conference. Careers. Are You Ready? \n 
URL:https://www.raid.world/event/%f0%9f%8e%aa-taafi-2026/
LOCATION:Tiff Lightbox\, 350 King St W\, Toronto\, Ontario\, M5V 3X5\, Canada
CATEGORIES:Conventions & Expos
ATTACH;FMTTYPE=image/png:https://www.raid.world/wp-content/uploads/2026/03/TAAFI_SMP_Landscape-photos.png
END:VEVENT
END:VCALENDAR